BEGIN:VCALENDAR
VERSION:2.0
PRODID:-//wp-events-plugin.com//7.2.3.1//EN
BEGIN:VEVENT
UID:0-144@blockchaincentrenbo.com
DTSTART:20260321T110000Z
DTEND:20260321T160000Z
DTSTAMP:20260319T123321Z
URL:https://www.blockchaincentrenbo.com/events/watch-party-game-night/
SUMMARY:Watch Party + Game Night
DESCRIPTION:Watch Party or a High Stakes Game Night? No need to choose.This
  march\, we're switching things up and adding a twist to our monthly watch
  party2:00PM : Watch Party( the first 4 episodes of Scream Queen)4:00PM : 
 Game Night
LOCATION:Blockchain Centre\, Blockchain Centre NBO\, Nairobi\, Nairobi\, 00
 100\, Nairobi\, Kenya
X-APPLE-STRUCTURED-LOCATION;VALUE=URI;X-ADDRESS=Blockchain Centre NBO\, Nai
 robi\, Nairobi\, 00100\, Nairobi\, Kenya;X-APPLE-RADIUS=100;X-TITLE=Blockc
 hain Centre:geo:0,0
END:VEVENT
END:VCALENDAR