BEGIN:VCALENDAR
VERSION:2.0
PRODID:-//wp-events-plugin.com//7.2.3.1//EN
BEGIN:VEVENT
UID:0-153@blockchaincentrenbo.com
DTSTART:20260501T080000Z
DTEND:20260501T130000Z
DTSTAMP:20260415T113737Z
URL:https://www.blockchaincentrenbo.com/events/the-wonder-years/
SUMMARY:The Wonder Years
DESCRIPTION:Get ready for the wonder years event\, the event you didn't kno
 w you needed as a parent.This isn't just another event.Its a beautiful opp
 ortunity to understand your children's milestones and be equipped with the
  right tools to raise confident\, capable\, and empowered young individual
 s.For Parents\, guardians\, educators....
LOCATION:Blockchain Centre\, Blockchain Centre NBO\, Nairobi\, Nairobi\, 00
 100\, Nairobi\, Kenya
X-APPLE-STRUCTURED-LOCATION;VALUE=URI;X-ADDRESS=Blockchain Centre NBO\, Nai
 robi\, Nairobi\, 00100\, Nairobi\, Kenya;X-APPLE-RADIUS=100;X-TITLE=Blockc
 hain Centre:geo:0,0
END:VEVENT
END:VCALENDAR