BEGIN:VCALENDAR
VERSION:2.0
PRODID:-//wp-events-plugin.com//7.2.3.1//EN
BEGIN:VEVENT
UID:0-155@blockchaincentrenbo.com
DTSTART:20260411T060000Z
DTEND:20260411T130000Z
DTSTAMP:20260416T095241Z
URL:https://www.blockchaincentrenbo.com/events/the-myndspa-mental-health-c
 ohort-1/
SUMMARY:THE MYNDSPA - Mental Health Cohort 1
DESCRIPTION:Unlock Your Mental Wellness:Join Dr. Venus Kyengo For An Exclus
 ive Cohort 1 Empowerment Talk: Mental health meetup focusing on holistic h
 ealing and personal growth from addressing existing challenges. Using indi
 vidual therapy &amp\; Group Therapy focus
ATTACH;FMTTYPE=image/jpeg:https://s3.2lovelaces.com/blockchaincentre/2026/
 04/WhatsApp-Image-2026-04-16-at-12.47.41.jpeg
LOCATION:Blockchain centre Nairobi\, Rose Avenue\, Nairobi\, Nairobi\, 0010
 0\, Nairobi\, Kenya
X-APPLE-STRUCTURED-LOCATION;VALUE=URI;X-ADDRESS=Rose Avenue\, Nairobi\, Nai
 robi\, 00100\, Nairobi\, Kenya;X-APPLE-RADIUS=100;X-TITLE=Blockchain centr
 e Nairobi:geo:0,0
END:VEVENT
END:VCALENDAR