BEGIN:VCALENDAR
VERSION:2.0
PRODID:-//wp-events-plugin.com//7.2.3.1//EN
BEGIN:VEVENT
UID:0-148@blockchaincentrenbo.com
DTSTART:20260522T030000Z
DTEND:20260522T030000Z
DTSTAMP:20260415T112851Z
URL:https://www.blockchaincentrenbo.com/events/may-outing/
SUMMARY:May Outing
DESCRIPTION:Date: May 2026\nDestination: Ngare Ndare Forest Reserve\nDepart
 ure: 6:00 AM from Blockchain Centre NBO\n\n\n\n\nAbout the Trip\nEscape th
 e city for a day of adventure and community building. Join the Cardano Hub
  Nairobi community as we head to the foothills of Mt. Kenya to explore ind
 igenous forests\, walk above the trees\, and dive into crystal-clear blue 
 pools.\nNo laptops—just nature and networking.\nConnect with fellow buil
 ders and enthusiasts in one of Kenya’s most beautiful hidden gems.\n\n\n
 \n\nActivities &amp\; Highlights\nVisiting Nairobi National Park\n\n 	\nCa
 nopy Walk: Experience East Africa’s longest suspension bridge (450m).\n\
 n 	\nBlue Pools: Swim in the famous azure waterfalls.\n\n 	\nForest Hike: 
 A guided trek through ancient olive and cedar trees.\n\n 	\nCommunity Ming
 le: Casual networking with the Nairobi Cardano community.\n\n\n\n\n\nPacka
 ge Details\n\nPrice: KES 5\,000 (Inclusive of Transport\, Entry Fees\, Ran
 ger\, and Lunch).\nWhat to Carry:\n\n\n 	\nOriginal National ID / Passport
  (Mandatory for entry).\n\n 	\nComfortable hiking shoes.\n\n 	\nSwimwear a
 nd a towel.\n\n 	\nA refillable water bottle (No single-use plastics).\n\n
 \n\n\n\nRegistration\nSpace is strictly limited! Secure your spot by regis
 tering on [Link] and completing payment via M-Pesa to [Insert Till Number/
 Details].
ATTACH;FMTTYPE=image/jpeg:https://s3.2lovelaces.com/blockchaincentre/2026/
 04/cardano-may-outing-1.jpeg
LOCATION:Blockchain Centre\, Blockchain Centre NBO\, Nairobi\, Nairobi\, 00
 100\, Nairobi\, Kenya
X-APPLE-STRUCTURED-LOCATION;VALUE=URI;X-ADDRESS=Blockchain Centre NBO\, Nai
 robi\, Nairobi\, 00100\, Nairobi\, Kenya;X-APPLE-RADIUS=100;X-TITLE=Blockc
 hain Centre:geo:0,0
END:VEVENT
END:VCALENDAR