BEGIN:VCALENDAR
VERSION:2.0
PRODID:-//wp-events-plugin.com//7.2.3.1//EN
BEGIN:VEVENT
UID:0-158@blockchaincentrenbo.com
DTSTART:20260516T160000Z
DTEND:20260516T190000Z
DTSTAMP:20260417T115242Z
URL:https://www.blockchaincentrenbo.com/events/lush-love-live-acoustic-eve
 nt/
SUMMARY:Lush Love : Live Acoustic Event
DESCRIPTION:​A night where energy\, connection\, and atmosphere come aliv
 e.\n​Come open. Feel the vibe. 💚\n​🎉 Check out "Lush Love" on Pa
 ssly!\n​Early Bird 800\n​Advance 1000
ATTACH;FMTTYPE=image/jpeg:https://s3.2lovelaces.com/blockchaincentre/2026/
 04/WhatsApp-Image-2026-04-17-at-14.36.32.jpeg
LOCATION:Blockchain Centre\, Blockchain Centre NBO\, Nairobi\, Nairobi\, 00
 100\, Nairobi\, Kenya
X-APPLE-STRUCTURED-LOCATION;VALUE=URI;X-ADDRESS=Blockchain Centre NBO\, Nai
 robi\, Nairobi\, 00100\, Nairobi\, Kenya;X-APPLE-RADIUS=100;X-TITLE=Blockc
 hain Centre:geo:0,0
END:VEVENT
END:VCALENDAR