BEGIN:VCALENDAR
VERSION:2.0
PRODID:-//wp-events-plugin.com//7.2.3.1//EN
BEGIN:VEVENT
UID:0-143@blockchaincentrenbo.com
DTSTART:20260320T083000Z
DTEND:20260320T110000Z
DTSTAMP:20260319T120823Z
URL:https://www.blockchaincentrenbo.com/events/draw-your-thoughts/
SUMMARY:Draw your thoughts
DESCRIPTION:Mental health creative workshop\nThis Art Therapy Event is a me
 ntal health-focused experience designed to create a safe\, supportive\, an
 d creative environment where individuals can express their emotions\, redu
 ce stress\, and promote personal well-being through art. The event aims to
  encourage open conversations around mental health while using artistic ac
 tivities as a tool for self-expression\, healing\, and connection. Partici
 pants will have the opportunity to explore creativity\, reflect on their e
 xperiences\, and engage with others in a positive and uplifting space that
  supports emotional awareness and wellness.
LOCATION:Blockchain Centre\, Blockchain Centre NBO\, Nairobi\, Nairobi\, 00
 100\, Nairobi\, Kenya
X-APPLE-STRUCTURED-LOCATION;VALUE=URI;X-ADDRESS=Blockchain Centre NBO\, Nai
 robi\, Nairobi\, 00100\, Nairobi\, Kenya;X-APPLE-RADIUS=100;X-TITLE=Blockc
 hain Centre:geo:0,0
END:VEVENT
END:VCALENDAR