BEGIN:VCALENDAR
VERSION:2.0
PRODID:-//wp-events-plugin.com//7.2.3.1//EN
BEGIN:VEVENT
UID:0-157@blockchaincentrenbo.com
DTSTART:20260424T140000Z
DTEND:20260424T160000Z
DTSTAMP:20260417T085636Z
URL:https://www.blockchaincentrenbo.com/events/cursor-kenya-builders-hango
 ut/
SUMMARY:Cursor Kenya: Builders Hangout
DESCRIPTION:Cursor 3 just dropped and we are absolutely hyped. Come hang ou
 t with us on April 24th as we celebrate the release and dig into everythin
 g the new version has to offer. Whether you have already been exploring it
  or you are just getting started\, this is the perfect excuse to pull up y
 our setup and show the room what you have been building.\n​The plan is s
 imple and fun. We will be swapping workflows\, sharing favourite features\
 , and picking up tricks from each other that we probably would not have fi
 gured out on our own. Cursor keeps getting better and honestly it is more 
 exciting when you get to geek out about it with other people who are just 
 as into it.\n​Felix will be hosting and the vibe is casual and relaxed. 
 Come ready to share\, ask questions\, and maybe leave with a few ideas tha
 t completely change how you work. See you there!
ATTACH;FMTTYPE=image/jpeg:https://s3.2lovelaces.com/blockchaincentre/2026/
 04/cursor-community-avatar.png
LOCATION:Blockchain Centre\, Blockchain Centre NBO\, Nairobi\, Nairobi\, 00
 100\, Nairobi\, Kenya
X-APPLE-STRUCTURED-LOCATION;VALUE=URI;X-ADDRESS=Blockchain Centre NBO\, Nai
 robi\, Nairobi\, 00100\, Nairobi\, Kenya;X-APPLE-RADIUS=100;X-TITLE=Blockc
 hain Centre:geo:0,0
END:VEVENT
END:VCALENDAR