BEGIN:VCALENDAR
VERSION:2.0
PRODID:-//wp-events-plugin.com//7.2.3.1//EN
BEGIN:VEVENT
UID:0-136@blockchaincentrenbo.com
DTSTART:20260320T130000Z
DTEND:20260320T150000Z
DTSTAMP:20260317T113636Z
URL:https://www.blockchaincentrenbo.com/events/claude-for-everyone-nairobi
 /
SUMMARY:Claude for Everyone — Nairobi
DESCRIPTION:A hands-on session covering three Claude AI products in one eve
 ning — Claude AI for writing\, research and analysis\, Claude Code for d
 evelopers\, and Cowork for non-developers. Live demos on real systems\, Q&
 amp\;A\, and networking.\n\nOpen to developers\, designers\, product peopl
 e\, and anyone curious about AI.\n\nFree. Limited spots. Approval-based re
 gistration.\n\nRegister: https://luma.com/jgfwyg2h
LOCATION:Blockchain Centre\, Blockchain Centre NBO\, Nairobi\, Nairobi\, 00
 100\, Nairobi\, Kenya
X-APPLE-STRUCTURED-LOCATION;VALUE=URI;X-ADDRESS=Blockchain Centre NBO\, Nai
 robi\, Nairobi\, 00100\, Nairobi\, Kenya;X-APPLE-RADIUS=100;X-TITLE=Blockc
 hain Centre:geo:0,0
END:VEVENT
END:VCALENDAR