BEGIN:VCALENDAR
VERSION:2.0
PRODID:-//wp-events-plugin.com//7.2.3.1//EN
BEGIN:VEVENT
UID:0-154@blockchaincentrenbo.com
DTSTART:20260501T150000Z
DTEND:20260501T180000Z
DTSTAMP:20260416T094529Z
URL:https://www.blockchaincentrenbo.com/events/blockchain-centre-trivia-ni
 ght/
SUMMARY:Blockchain Centre Trivia Night
DESCRIPTION:The Blockchain Centre Nairobi presents a Trivia Night you do no
 t want to miss! \n\nCome for happy hour and a night filled with fun questi
 ons\, pre-game mini-games\, and a massive prize pool. \n\nThere will be so
 mething for everyone!\n\n&nbsp\;\nThe ultimate Trivia Winners will walk aw
 ay with 25% OF TICKET SALES! \n&nbsp\;\n\n 	 Date: May 1st\, 2026\n 	 T
 ime: 5:00 p.m. - till late\n 	 Venue: Blockchain Centre Nairobi\n 	 Entr
 y: KES 600 BOB (800 at the door)\n 	\n\nFive Categories: Two in blockchain
 \, One AI\, Two random categories. \n\n Come test your knowledge against
   best. Are you bullish on your trivia skills? Proof it.\n\nPurchase your
  ticket at the link below ahead of time to save!\n\n&nbsp\;
ATTACH;FMTTYPE=image/jpeg:https://s3.2lovelaces.com/blockchaincentre/2026/
 04/blockchain-centre-trivia-night-poster.jpeg
LOCATION:Blockchain centre Nairobi\, Rose Avenue\, Nairobi\, Nairobi\, 0010
 0\, Nairobi\, Kenya
X-APPLE-STRUCTURED-LOCATION;VALUE=URI;X-ADDRESS=Rose Avenue\, Nairobi\, Nai
 robi\, 00100\, Nairobi\, Kenya;X-APPLE-RADIUS=100;X-TITLE=Blockchain centr
 e Nairobi:geo:0,0
END:VEVENT
END:VCALENDAR